BEGIN:VCALENDAR
PRODID:-//eluceo/ical//2.0/EN
VERSION:2.0
CALSCALE:GREGORIAN
BEGIN:VEVENT
UID:094499bd17cddaec6d5cd8aac236b753
DTSTAMP:20260423T145743Z
SUMMARY:Future of Mobility
DESCRIPTION:Název akce: Future of Mobility\nURL: https://www.spcr.cz/futur
 e-mobility\nPopis: \n\nFuture of Mobility - konference zaměřená na dopr
 avu budoucnosti\nZajímá Vás problematika dopravy budoucnosti? Chcete se
  dozvědět více o chytrém způsobu cestování\, udržitelnosti nebo e-
 mobilitě? Navštivte naši akci a vyslechněte si přední odborníky na 
 daná témata.\nAkce probíhá pod záštitou Magistrátu hl .m. Prahy a S
 vazu průmyslu a dopravy České republiky.\nAgendu a řečníky průběž
 ně doplňujeme na webu konference.\n
URL:https://www.spcr.cz/future-mobility
DTSTART:20211103T090000
DTEND:20211103T180000
LOCATION:
END:VEVENT
END:VCALENDAR
