BEGIN:VCALENDAR
PRODID:-//eluceo/ical//2.0/EN
VERSION:2.0
CALSCALE:GREGORIAN
BEGIN:VEVENT
UID:7e19f787dca7a44f396abef5b2e7f5ef
DTSTAMP:20260423T213424Z
SUMMARY:XXVII. mexický kongres zahraničního obchodu (virtuálně) a VIRT
 UÁLNÍ EXPO
DESCRIPTION:Název akce: XXVII. mexický kongres zahraničního obchodu (vi
 rtuálně) a VIRTUÁLNÍ EXPO\nURL: https://www.spcr.cz/xxvii-mexicky-kong
 res-zahranicniho-obchodu-virtualne-virtualni-expo-0\nPopis: \n\nVíce info
 rmací k akci\n
URL:https://www.spcr.cz/xxvii-mexicky-kongres-zahranicniho-obchodu-virtualn
 e-virtualni-expo-0
DTSTART:20211125T000000
DTEND:20211125T235959
LOCATION:
END:VEVENT
END:VCALENDAR
