BEGIN:VCALENDAR
PRODID:-//eluceo/ical//2.0/EN
VERSION:2.0
CALSCALE:GREGORIAN
BEGIN:VEVENT
UID:8077a166345a76a8da865c3232b28539
DTSTAMP:20260423T150253Z
SUMMARY:Webinář ke 4. výročí platnosti dohody CETA 
DESCRIPTION:Název akce: Webinář ke 4. výročí platnosti dohody CETA \n
 URL: https://www.spcr.cz/webinar-ke-4-vyroci-platnosti-dohody-ceta\nPopis:
  \n\nCETA 4 Year Anniversary Webinar\n October 13th\, 2021\,  (9h00 to 
 10h30 am EST/ 15h00 to 16h30 CET)\nThe Canada EU Trade and Investment Asso
 ciation\, the Business Council of Canada\, Business Europe\, the European 
 Services Forum\, the EU Chamber of Commerce and the Ireland Canada Busines
 s Association are pleased to announce a webinar to mark and discuss the 4t
 h Anniversary of the Canada-EU Comprehensive Economic and Trade Agreement
  (CETA) to take place on October 13th 2021.\nThe event will present high-
 level insights into the state of CETA from Canadian and EU officials and w
 ill feature a business roundtable discussion and Q&A to suggest and discus
 s how CETA can help promote greater Canada-EU business cooperation.\nIn pa
 rticular\, David O’Sullivan\, former EU Ambassador to the US\, former D
 irector General of DG Trade and CEO of EEAS will moderate a panel on “Th
 e State of CETA: A discussion with the Ambassadors “ with Ailish Campbe
 ll\, Ambassador of Canada to the EU\, and Melita Gabrič\, Ambassador of 
 the EU to Canada\nREGISTER NOW\nRegistration to the event is required.  P
 lease do spread out the invitation to any interested persons. Draft_age
 nda_-_CETA_4_Year_anniversary_-_13_October_2021.pdf\nPascal KerneisManagin
 g DirectorEuropean Services Forum (ESF)168\, Avenue de CortenberghB - 1000
  - BrusselsTel: +322 230 75 14Mob: +32 476 321 027Email: esf@esf.beIntern
 et: www.esf.be@EUServicesForumEU Transparency Register: 3562594969-02\n
URL:https://www.spcr.cz/webinar-ke-4-vyroci-platnosti-dohody-ceta
DTSTART:20211013T150000
DTEND:20211013T170000
LOCATION:
END:VEVENT
END:VCALENDAR
