BEGIN:VCALENDAR
PRODID:-//eluceo/ical//2.0/EN
VERSION:2.0
CALSCALE:GREGORIAN
BEGIN:VEVENT
UID:cf082d07b88da127a68836a9fd1c0a51
DTSTAMP:20260423T163303Z
SUMMARY:Druhý ročník virtuálního podnikatelského fóra na Kubě
DESCRIPTION:Název akce: Druhý ročník virtuálního podnikatelského fó
 ra na Kubě\nURL: https://www.spcr.cz/druhy-rocnik-virtualniho-podnikatels
 keho-fora-na-kube-0\nPopis: \n\nKuba plánuje uspořádat ve dnech 29. lis
 topadu - 2. prosince 2021 druhý ročník virtuálního podnikatelského 
 fóra.\nTato akce je jedinečnou příležitostí pro české firmy dozvě
 dět se více o aktuálních obchodních a investičních příležitostec
 h na Kubě a je určitou alternativou k mezinárodnímu veletrhu v Havaně
  FIHAV\, který se z důvodu celosvětové pandemie v letošním roce neko
 ná.\nVíce informací naleznete na webových stránkách Velvyslanectví 
 ČR na Kubě: https://www.mzv.cz/havana/cz/obchod_a_ekonomika/pozvanka_na
 _virtualni_podnikatelske_1.html\n
URL:https://www.spcr.cz/druhy-rocnik-virtualniho-podnikatelskeho-fora-na-ku
 be-0
DTSTART:20211129T080000
DTEND:20211202T235959
LOCATION:
END:VEVENT
END:VCALENDAR
