BEGIN:VCALENDAR
PRODID:-//eluceo/ical//2.0/EN
VERSION:2.0
CALSCALE:GREGORIAN
BEGIN:VEVENT
UID:c62c12e08409fb6ed9365de5d9566300
DTSTAMP:20260423T150132Z
SUMMARY:Česko-tchajwanské investiční a obchodní fórum a B2B
DESCRIPTION:Název akce: Česko-tchajwanské investiční a obchodní fóru
 m a B2B\nURL: https://www.spcr.cz/cesko-tchajwanske-investicni-obchodni-fo
 rum-b2b\nPopis: \n\nTchajwanské společnosti hrají v české ekonomice d
 ůležitou roli jako vývozci\, investoři a tvůrci pracovních míst. Tc
 haj -wan je globální velmocí ICT průmyslu. Společné projekty podporu
 jící partnerství v oblastech špičkových technologií jsou proto při
 rozeným vývojem dlouhodobých česko-tchajwanských obchodních vztahů.
 \nSvaz průmyslu a dopravy ČR Vás zve na Česko-tchajwanské investičn
 í a obchodní fórum a B2B jednání\, které proběhne v pondělí 25. 
 října 2021 od 09.00 hodin v hotelu Alcron u příležitosti návštěvy
  podnikatelské delegace v ČR a konání 5. česko-tchajwanských bilater
 álních konzultací.Pozvánku s dalšími informacemi najdete zde.Prosím
 e o Vaše registrace do čtvrtka 21. října 2021. V registrace zde  
  prosíme uveďte tchajwanskou firmu/firmy\, se kterými byste rádi jedn
 ali. Seznam tchajwanských subjektů\, které přijíždějí do ČR najd
 ete zde.Jde o investory a firmy z energetického a elektronického prům
 yslu\, z oblasti kybernetické bezpečnosti\, z oblasti výměny baterií 
 a energetického manažmentu pro dopravu\, z oblasti digitální transform
 ace maloobchodu\, z oblasti vývoje a výroby vakcín a biologie\, z obla
 sti turistického ruchu a e-commerce a  další. \nDěkujeme předem za 
 Váš zájem a těšíme se na setkání při této příležitosti.\n
URL:https://www.spcr.cz/cesko-tchajwanske-investicni-obchodni-forum-b2b
DTSTART:20211025T090000
DTEND:20211025T130000
LOCATION:
END:VEVENT
END:VCALENDAR
