BEGIN:VCALENDAR
PRODID:-//eluceo/ical//2.0/EN
VERSION:2.0
CALSCALE:GREGORIAN
BEGIN:VEVENT
UID:8cdb6498469e227ccaded39ed35d9edc
DTSTAMP:20260423T145924Z
SUMMARY:Business Location AUSTRIA | Příležitosti pro české firmy
DESCRIPTION:Název akce: Business Location AUSTRIA | Příležitosti pro č
 eské firmy\nURL: https://www.spcr.cz/business-location-austria-prilezitos
 ti-pro-ceske-firmy\nPopis: \n\nPřemýšlíte o možnostech podnikání v 
 Rakousku?Chtěli byste se dozvědět více o zdejším trhu\, výhodách\,
  příležitostech či finanční podpoře pro zahraniční firmy? Chtěli
  byste si osobně popovídat se zástupci rakouské státní agentury na p
 odporu podnikání?Využijte možnosti zúčastnit se naší informační 
 schůzky\, na níž Vám rakouští experti prozradí\, proč je založen
 í podniku v Rakousku tou správnou volbou! Kromě příležitosti načerp
 at mnoho zajímavých a užitečných informací Vám budou rakouští exp
 erti k dispozici také pro individuální rozhovory.\nMísto: OPERO\, Salv
 átorská 931/8\, Praha 1Další informace a přihláška: zde\n
URL:https://www.spcr.cz/business-location-austria-prilezitosti-pro-ceske-fi
 rmy
DTSTART:20211104T083000
DTEND:20211104T110000
LOCATION:
END:VEVENT
END:VCALENDAR
