BEGIN:VCALENDAR
PRODID:-//eluceo/ical//2.0/EN
VERSION:2.0
CALSCALE:GREGORIAN
BEGIN:VEVENT
UID:204a2cbc7574ebefc9ccd1679add99f4
DTSTAMP:20260423T125316Z
SUMMARY:Dotace TAČR
DESCRIPTION:Název akce: Dotace TAČR\nURL: https://www.spcr.cz/dotace-tacr
 \nPopis: \n\nEnovation ve spolupráci se Svazem průmyslu a dopravy ČR po
 řádá bezplatný webinář\, kde budete mít možnost poznat výhody ná
 rodních dotací se zástupcem Technologické agentury ČR.Programy Techno
 logické agentury ČR jsou dlouhodobě velmi oblíbené především proto
 \, že peníze na projekt obdržíte předem. Agentura podpoří předevš
 ím inovace v energetice\, dopravě a životním prostředí.Co se chystá
  v dalších dotačních vlnách se na webináři dozvíte přímo od zás
 tupce TAČR. Na webinář se registrujte zde.\n
URL:https://www.spcr.cz/dotace-tacr
DTSTART:20211104T100000
DTEND:20211104T104500
LOCATION:
END:VEVENT
END:VCALENDAR
