BEGIN:VCALENDAR
PRODID:-//eluceo/ical//2.0/EN
VERSION:2.0
CALSCALE:GREGORIAN
BEGIN:VEVENT
UID:055e3dc49e7aa5b55c89a61c690ee1e9
DTSTAMP:20260423T163252Z
SUMMARY:Dotace pro pražské podniky
DESCRIPTION:Název akce: Dotace pro pražské podniky\nURL: https://www.spc
 r.cz/dotace-pro-prazske-podniky\nPopis: \n\nEnovation ve spolupráci se Sv
 azem průmyslu a dopravy ČR pořádá bezplatný webinář\, specializova
 ný na dotační tituly určené pro pražské podniky.Podnikáte-li v Pra
 ze\, nové dotační období 2021-2027\, které právě startuje\, pro vá
 s představuje unikátní příležitost. Především programy Národní 
 plán obnovy a Modernizační fond podpoří i pražské podniky a to vče
 tně těch velkých nad 249 zaměstnanců. Zaregistrujte se na bezplatný 
 webinář a zjistěte\, jaké máte možnosti.\n
URL:https://www.spcr.cz/dotace-pro-prazske-podniky
DTSTART:20211020T100000
DTEND:20211020T104500
LOCATION:
END:VEVENT
END:VCALENDAR
