BEGIN:VCALENDAR
PRODID:-//eluceo/ical//2.0/EN
VERSION:2.0
CALSCALE:GREGORIAN
BEGIN:VEVENT
UID:be348f3f235cff84f3a2409aca971d11
DTSTAMP:20260423T125219Z
SUMMARY:Dotace na fotovoltaiku
DESCRIPTION:Název akce: Dotace na fotovoltaiku\nURL: https://www.spcr.cz/d
 otace-na-fotovoltaiku\nPopis: \n\nEnovation ve spolupráci se Svazem prům
 yslu a dopravy ČR pořádá bezplatný webinář\, kde vám poradíme jak
  získat ideální program pro vaší firmu.\nStále více firem řeší e
 nergetickou úsporu pomocí fotovoltaiky. Ceny energií rostou a připravo
 vané dotační programy nabídnou lepší podmínky než kdy dříve (abs
 ence výběrových řízení\, konec nutnosti dodávat projektovou dokumen
 taci k žádosti aj.). \nPřihlaste se na webinář\, na kterém představ
 íme všechny programy podporující fotovoltaiku.\n
URL:https://www.spcr.cz/dotace-na-fotovoltaiku
DTSTART:20211019T100000
DTEND:20211019T104500
LOCATION:
END:VEVENT
END:VCALENDAR
