BEGIN:VCALENDAR
PRODID:-//eluceo/ical//2.0/EN
VERSION:2.0
CALSCALE:GREGORIAN
BEGIN:VEVENT
UID:b5512969e752700d98f422ce66b387eb
DTSTAMP:20260423T212957Z
SUMMARY:Národní plán obnovy - první dotace už v říjnu
DESCRIPTION:Název akce: Národní plán obnovy - první dotace už v říj
 nu\nURL: https://www.spcr.cz/narodni-plan-obnovy-prvni-dotace-uz-v-rijnu\n
 Popis: \n\nEnovation ve spolupráci se Svazem průmyslu a dopravy ČR poř
 ádá bezplatný webinář\, kde se dozvíte možnosti čerpání podpory 
 z Národního plánu obnovy.Oživení ekonomiky po pandemii covid-19 a zel
 ená i digitální transformace. To jsou hlavní cíle Národního plánu 
 obnovy –⁠ unikátního dotačního programu\, který do českých fire
 m od října přivede desítky miliard Kč a už se pravděpodobně nikdy 
 nebude opakovat. Zaregistrujte se na webinář a dozvíte se\, jak z této
  unikátní příležitosti vytěžíte maximum.\n
URL:https://www.spcr.cz/narodni-plan-obnovy-prvni-dotace-uz-v-rijnu
DTSTART:20211013T100000
DTEND:20211013T104500
LOCATION:
END:VEVENT
END:VCALENDAR
