BEGIN:VCALENDAR
PRODID:-//eluceo/ical//2.0/EN
VERSION:2.0
CALSCALE:GREGORIAN
BEGIN:VEVENT
UID:a4da59086db3cc318435473ab1877d21
DTSTAMP:20260423T125537Z
SUMMARY:Dotace na inovace
DESCRIPTION:Název akce: Dotace na inovace\nURL: https://www.spcr.cz/dotace
 -na-inovace\nPopis: \n\nEnovation ve spolupráci se Svazem průmyslu a dop
 ravy ČR pořádá bezplatný webinář: Financujte z dotací až 80 % ná
 kladů na inovace.Mzdy vývojových pracovníků\, testovací stroje\, pro
 story\, výdaje spojené s uvedením inovace na trh. Získejte dotaci na c
 elý proces dotace od prvotního nápadu po uplatnění na trhu. V program
 ech Národní plán obnovy\, TAČR nebo OPTAK na vás čekají stovky mili
 ard. \nNa webináři se dozvíte\, jak vybrat ten správný program pro va
 še nápady.\n
URL:https://www.spcr.cz/dotace-na-inovace
DTSTART:20211012T100000
DTEND:20211012T104500
LOCATION:
END:VEVENT
END:VCALENDAR
