BEGIN:VCALENDAR
PRODID:-//eluceo/ical//2.0/EN
VERSION:2.0
CALSCALE:GREGORIAN
BEGIN:VEVENT
UID:aa18afdecd97dfda3351c7cb0c7c3ada
DTSTAMP:20260423T125219Z
SUMMARY:Přehled chystaných dotací
DESCRIPTION:Název akce: Přehled chystaných dotací\nURL: https://www.spc
 r.cz/prehled-chystanych-dotaci\nPopis: \n\nEnovation ve spolupráci se Sva
 zem průmyslu a dopravy ČR pořádá bezplatný webinář: Provedeme vás
  chystanými dotacemi.\nEvropská unie i česká vláda mocně podpoří 
 českou ekonomiku na cestě z pandemie stovkami miliard Kč. Dostane se i 
 na podniky\, které tradiční dotační programy opomíjí –⁠ např. 
 velké či pražské firmy nebo startupy.\n\nPřihlaste se na webinář a 
 zorientujte se v chystaných programech.\n
URL:https://www.spcr.cz/prehled-chystanych-dotaci
DTSTART:20211007T100000
DTEND:20211007T120000
LOCATION:
END:VEVENT
END:VCALENDAR
