BEGIN:VCALENDAR
PRODID:-//eluceo/ical//2.0/EN
VERSION:2.0
CALSCALE:GREGORIAN
BEGIN:VEVENT
UID:33127984ab2abe2998219e20fecf04a0
DTSTAMP:20260423T094839Z
SUMMARY:e-SALON - veletrh čisté mobility 
DESCRIPTION:Název akce: e-SALON - veletrh čisté mobility \nURL: https://
 www.spcr.cz/e-salon-veletrh-ciste-mobility\nPopis: \n\n3. ročník special
 izovaného odborného veletrhu zaměřeného především na kontraktačn
 í jednání s tuzemskými a zahraničními vystavovateli\, výrobci a obc
 hodníky se uskuteční ve dnech 11. – 14. listopadu 2021 na výstavišt
 i PVA EXPO Letňany s aktivním přispěním hlavního města Prahy.\ne-SA
 LON je zaměřen na automobily s alternativními pohony\, nabíjecí infra
 strukturu\, autonomní mobilitu\, smart cities\, doplňky a služby souvis
 ející s mobilitou. Návštěvníci veletrhu uvidí premiéry\, novinky\,
  nejnovější trendy ve výše uvedených oborech. V rámci veletrhu se o
 tevře sekce elektrokol a elektromotorek\, zajištěna je účast startup
 ů\, stejně tak i rozsáhlá mediální kampaň prostřednictvím spolupr
 áce s PRIMA TV a pořadem Autosalon. Doprovodný program pro odbornou i 
 širokou veřejnost formou přednášek\, zkušebních jízd\, odborných 
 workshopů bude platformou pro výměnu informací a názorů na současn
 ý stav a budoucí trendy vývoje tohoto oboru.\nZáštitu nad veletrhem p
 oskytla Vláda ČR\, MPaO ČR\, MMR ČR\, MŽP ČR\, Sdružení automobilo
 vého průmyslu\, HK ČR\, SDT\, SISA a rovněž i Svaz průmyslu a doprav
 y ČR\, který zastoupené obory veletrhu považuje za prioritní s ohlede
 m na ochranu životního prostředí a zlepšení životních podmínek ob
 yvatel.\nGenerálním partnerem je skupina ČEZ\, odbornou záštitu posky
 tla AMSP ČR\, odbornými partnery jsou Asociace pro elektromobilitu ČR\,
  spolek Čistá mobilita a Autonabíjení.CZ\nPořadatel veletrhu\, spole
 čnost ABF\, a.s. Vás srdečně zve k aktivní účasti formou stánku\, 
 nebo osobní návštěvou.\n\nVíce informací na www.e-salon.cz\n
URL:https://www.spcr.cz/e-salon-veletrh-ciste-mobility
DTSTART:20211111T000000
DTEND:20211114T235959
LOCATION:
END:VEVENT
END:VCALENDAR
