BEGIN:VCALENDAR
PRODID:-//eluceo/ical//2.0/EN
VERSION:2.0
CALSCALE:GREGORIAN
BEGIN:VEVENT
UID:9de100f9ca6b62854d83d95c2aef43e8
DTSTAMP:20260423T145913Z
SUMMARY:Digitalizace daní a účetnictví v ČR
DESCRIPTION:Název akce: Digitalizace daní a účetnictví v ČR\nURL: htt
 ps://www.spcr.cz/digitalizace-dani-ucetnictvi-v-cr\nPopis: \n\nKomora cert
 ifikovaných účetních a Komora daňových poradců České republiky za
  podpory Svazu průmyslu a dopravy ČR pořádají společnou konferenci n
 a téma automatizace a digitalizace daní a účetnictví. Konference se z
 aměří na informace z legislativy a státní správy\, zkušenosti z por
 adenských firem a budoucí vývoj a profesní využitelnost technologií.
 \nCílem konference je ve třech panelech seznámit účastníky s nejnov
 ějšími informacemi z oblasti digitalizace státní správy\, trendy a z
 kušenostmi v oblasti digitalizace a automatizace daňového poradenství 
 a účetnictví a očekávaným rozvojem technologií.\n\nRegistrace a pod
 robný program\n
URL:https://www.spcr.cz/digitalizace-dani-ucetnictvi-v-cr
DTSTART:20211004T093000
DTEND:20211004T170000
LOCATION:
END:VEVENT
END:VCALENDAR
