BEGIN:VCALENDAR
PRODID:-//eluceo/ical//2.0/EN
VERSION:2.0
CALSCALE:GREGORIAN
BEGIN:VEVENT
UID:5b2c6ef2a307ee5260f65df0f19c73d4
DTSTAMP:20260423T125837Z
SUMMARY:Seminář Polsko - exportní příležitosti pro české firmy
DESCRIPTION:Název akce: Seminář Polsko - exportní příležitosti pro 
 české firmy\nURL: https://www.spcr.cz/seminar-polsko-exportni-prilezitos
 ti-pro-ceske-firmy\nPopis: \n\nSeminář Polsko - exportní příležitost
 i pro české firmy\n
URL:https://www.spcr.cz/seminar-polsko-exportni-prilezitosti-pro-ceske-firm
 y
DTSTART:20211006T100000
DTEND:20211006T120000
LOCATION:
END:VEVENT
END:VCALENDAR
