BEGIN:VCALENDAR
PRODID:-//eluceo/ical//2.0/EN
VERSION:2.0
CALSCALE:GREGORIAN
BEGIN:VEVENT
UID:fc9e6dd2093f6bd05fca2612076c07f9
DTSTAMP:20260423T130518Z
SUMMARY:Online expanze na NĚMECKÝ trh: Jak na online prodej a marketing
DESCRIPTION:Název akce: Online expanze na NĚMECKÝ trh: Jak na online pro
 dej a marketing\nURL: https://www.spcr.cz/online-expanze-na-nemecky-trh-ja
 k-na-online-prodej-marketing\nPopis: \n\nPrezenční seminář k online ex
 panzi na německý trh\n
URL:https://www.spcr.cz/online-expanze-na-nemecky-trh-jak-na-online-prodej-
 marketing
DTSTART:20211021T130000
DTEND:20211021T163000
LOCATION:
END:VEVENT
END:VCALENDAR
