BEGIN:VCALENDAR
PRODID:-//eluceo/ical//2.0/EN
VERSION:2.0
CALSCALE:GREGORIAN
BEGIN:VEVENT
UID:da00acfa70716fe5976ee913f5d13d53
DTSTAMP:20260423T172612Z
SUMMARY:SME Circular Economy - webinář
DESCRIPTION:Název akce: SME Circular Economy - webinář\nURL: https://www
 .spcr.cz/sme-circular-economy-webinar\nPopis: \n\nTchajpejská ekonomická
  a kulturní kancelář v Praze zve k účasti na online semináři s tém
 atem SME Circular Economy\, který se bude konat dne 27.10.2021 v čase 9:
 00- 11:00 CET.\nZde naleznete bližší informace o události.\nBudete-li 
 mít zájem o účast\, kontaktujte prosím kancelář TECO do pondělí 0
 4.10.2021.\n
URL:https://www.spcr.cz/sme-circular-economy-webinar
DTSTART:20211027T090000
DTEND:20211027T100000
LOCATION:
END:VEVENT
END:VCALENDAR
