BEGIN:VCALENDAR
PRODID:-//eluceo/ical//2.0/EN
VERSION:2.0
CALSCALE:GREGORIAN
BEGIN:VEVENT
UID:8e11cec90c850f711a431ea5483818ee
DTSTAMP:20260423T130841Z
SUMMARY:Pozvánka ke kulatému stolu "Doporučení budoucímu premiérovi"
DESCRIPTION:Název akce: Pozvánka ke kulatému stolu "Doporučení budouc
 ímu premiérovi"\nURL: https://www.spcr.cz/pozvanka-ke-kulatemu-stolu-dop
 oruceni-budoucimu-premierovi\nPopis: \n\nSPGroup a.s. a předseda předsta
 nstva Pavel Sehnal zve na interdisciplinární diskusi u kulatého stolu s
  názvem „Doporučení budoucímu premiérovi“ dle názvu knihy Madel
 aine Albright Doporučení budoucímu prezidentovi. Obsah diskuse se bude
  týkat základních makroekonomických otázek\, co by budoucí vláda m
 ěla přestat dělat a co by měla dělat jinak v souvislosti s nastaven
 ím vhodných podmínek  pro podnikatelský sektor s efektem oživení e
 konomiky. Více informací v pozvánce zde.   \nDiskutovat bude  10 vý
 znamných osobností – majitelů\, zakladatelů\, TOP manažerů význam
 ných firem či odborníků  za jednotlivá odvětví. Účast potvrdili 
 pan senátor Jiří CIEŃCIALA\, zakladatel a generální ředitel Rabbit 
 Trhový Štěpánov pan Zdeněk JANDEJSEK\, zakladatel a majitel fondu RSJ
  Investment pan Karel Janeček\, předseda dozorčí rady České zbrojovk
 y Group pan Luboš Kovařík\, zakladatel a majitel firmy Malfini pan Mart
 in Hausenblas\, zakladatelka a generální ředitelka  společnosti ASIAN
 A-LETUSKA.cz paní Šárka Litvínová\, prezident Stomatologické komory 
 a majitel společnosti Asklepion pan Roman Šmucler\, místopředseda pře
 dseda MTX Group a představenstva Strojmetal Forging a.s. pan Miroslav ZÁ
 HOREC\, \, bývalý ministr dopravy\, dopravní expert pan Jaromír SCHLIN
 G a samozřejmě hostitel této akce pan Pavel SEHNAL.\n
URL:https://www.spcr.cz/pozvanka-ke-kulatemu-stolu-doporuceni-budoucimu-pre
 mierovi
DTSTART:20211004T180000
DTEND:20211004T230000
LOCATION:
END:VEVENT
END:VCALENDAR
