BEGIN:VCALENDAR
PRODID:-//eluceo/ical//2.0/EN
VERSION:2.0
CALSCALE:GREGORIAN
BEGIN:VEVENT
UID:1654d7d5994f2abade939074634ce462
DTSTAMP:20260423T162959Z
SUMMARY:Podnikatelská mise na Ukrajinu s místopředsedou vlády
DESCRIPTION:Název akce: Podnikatelská mise na Ukrajinu s místopředsedou
  vlády\nURL: https://www.spcr.cz/podnikatelska-mise-na-ukrajinu-s-mistopr
 edsedou-vlady-0\nPopis: \n\nDovolujeme si Vás pozvat k účasti na podni
 katelské misi\, která bude doprovázet místopředsedu vlády\, ministr
 a průmyslu a obchodu a ministra dopravy ČR Karla Havlíčka na Ukrajinu.
  Mise se uskuteční ve dnech 19. až 20. října 2021 a společně ji o
 rganizují Svaz průmyslu a dopravy a Komora pro hospodářské styky se z
 eměmi SNS. Podnikatelskou delegaci povede za Svaz průmyslu a dopravy pre
 zident Jaroslav Hanák a za Komoru SNS předseda představenstva Františe
 k Masopust.\nÚčast v delegaci doporučujeme firmám působících zejmé
 na v těchto oblastech:\ncivilní letecký průmysl\, důlní průmysl\, 
 energetika\, environmentální technologie\, obranný průmysl\, stavebnic
 tví a infrastruktura\, strojírenství\, vodohospodářství\, zeměděls
 ký a potravinářský průmysl a zdravotnický a farmaceutický průmysl.
 \nUzávěrka závazných přihlášek je 4. října 2021.\nZálohová cena
  za účast v podnikatelské delegaci je 18 900\,- Kč. \nVíce informac
 í naleznete na této webové stránce.\n \n
URL:https://www.spcr.cz/podnikatelska-mise-na-ukrajinu-s-mistopredsedou-vla
 dy-0
DTSTART:20211019T000000
DTEND:20211020T235959
LOCATION:
END:VEVENT
END:VCALENDAR
