BEGIN:VCALENDAR
PRODID:-//eluceo/ical//2.0/EN
VERSION:2.0
CALSCALE:GREGORIAN
BEGIN:VEVENT
UID:cd610c3e98db25a2770ed76f93cdfe0e
DTSTAMP:20260423T150052Z
SUMMARY:Metal Cutting\,  Forming &  Welding Expo - India - virtual event
DESCRIPTION:Název akce: Metal Cutting\,  Forming &  Welding Expo - India -
  virtual event\nURL: https://www.spcr.cz/metal-cutting-forming-welding-exp
 o-india-virtual-event\nPopis: \n\nNový ekonomický diplomat Velvyslanectv
 í Indie v Praze pan  A. Chakraborty zve české firmy na virtuální B2B
  setkání v rámci veletrhu obráběcích strojů v různých sektorech\,
  která organizuje EEPC India s podporou Ministerstva obchodu a průmyslu 
 Indie.Více ifnormací zde: Visitor_Flyer_-_Metal_Cutting_Forming_Welding
 _Expo.pdf\n
URL:https://www.spcr.cz/metal-cutting-forming-welding-expo-india-virtual-ev
 ent
DTSTART:20211018T000000
DTEND:20211029T235959
LOCATION:
END:VEVENT
END:VCALENDAR
