BEGIN:VCALENDAR
PRODID:-//eluceo/ical//2.0/EN
VERSION:2.0
CALSCALE:GREGORIAN
BEGIN:VEVENT
UID:c170bbbfba7fed4fc962359a0e3ed3d1
DTSTAMP:20260423T163005Z
SUMMARY:Stavební Expo včetně B2B - Indie - virtuálně
DESCRIPTION:Název akce: Stavební Expo včetně B2B - Indie - virtuálně\
 nURL: https://www.spcr.cz/stavebni-expo-vcetne-b2b-indie-virtualne\nPopis:
  \n\nNový ekonomický diplomat Velvyslanectví Indie v Praze pan  A. Cha
 kraborty zve české firmy na virtuální B2B setkání v rámci Builder H
 ardware Expo 2021\, která organizuje EEPC India s podporou Ministerstva o
 bchodu a průmyslu Indie.Více ifnormací zde:Visitor_Flyer_-_Builder_Hard
 ware_Expo.pdf\n
URL:https://www.spcr.cz/stavebni-expo-vcetne-b2b-indie-virtualne
DTSTART:20211005T000000
DTEND:20211008T235959
LOCATION:
END:VEVENT
END:VCALENDAR
