BEGIN:VCALENDAR
PRODID:-//eluceo/ical//2.0/EN
VERSION:2.0
CALSCALE:GREGORIAN
BEGIN:VEVENT
UID:1e83f7d99574fc3173106d16518535dd
DTSTAMP:20260423T145951Z
SUMMARY:INDIA  ELECTRICITY EXPO 2021 - virtuálně - včetně B2B
DESCRIPTION:Název akce: INDIA  ELECTRICITY EXPO 2021 - virtuálně - včet
 ně B2B\nURL: https://www.spcr.cz/india-electricity-expo-2021-virtualne-vc
 etne-b2b\nPopis: \n\nNový ekonomický diplomat Velvyslanectví Indie v Pr
 aze pan  A. Chakraborty zve české firmy na virtuální B2B setkání\, 
 která organizuje EEPC India s podporou Ministerstva obchodu a průmyslu I
 ndie.Více ifnormací zde: Visitor_Flyer_-_Electrical_Expo.pdf\nIndia Ele
 ctricity Expo 2021 brings to you the most prominent Indian manufacturers o
 f Generation Equipment and Transmission & Distribution (T&D) and allied eq
 uipment.\n
URL:https://www.spcr.cz/india-electricity-expo-2021-virtualne-vcetne-b2b
DTSTART:20210927T000000
DTEND:20210930T235959
LOCATION:
END:VEVENT
END:VCALENDAR
