BEGIN:VCALENDAR
PRODID:-//eluceo/ical//2.0/EN
VERSION:2.0
CALSCALE:GREGORIAN
BEGIN:VEVENT
UID:e94c8373ebf573098b9bbda69908a0eb
DTSTAMP:20260423T163005Z
SUMMARY:Seminář - příležitosti pro české firmy v Indii
DESCRIPTION:Název akce: Seminář - příležitosti pro české firmy v In
 dii\nURL: https://www.spcr.cz/seminar-prilezitosti-pro-ceske-firmy-v-indii
 \nPopis: \n\nDovolujeme si Vás pozvat na seminář pořádaným Ministers
 tvem zahraničních věcí ČR. Seminář o příležitostech pro české 
 firmy v Indii se bude konat dne 22.9.\n\nNa semináři vystoupí členové
  diplomatického sboru české ambasády v Dillí – pan velvyslanec Mil
 an Hovorka\, ekonomičtí diplomaté p. Milan Dostál a p. Jakub Jaroš. 
 Členy ambasády doplní také ředitel regionální pobočky CzechTrade p
 . Ivan Kameník. Z důvodu ztížených podmínek cestování v rámci p
 andemie se všichni vystupující připojí k semináři virtuálně.\nSe
 minář bude probíhat hybridní formou a je podmíněn registrací. Bliž
 ší informace a registrace zde.\n
URL:https://www.spcr.cz/seminar-prilezitosti-pro-ceske-firmy-v-indii
DTSTART:20210922T100000
DTEND:20210922T235959
LOCATION:
END:VEVENT
END:VCALENDAR
