BEGIN:VCALENDAR
PRODID:-//eluceo/ical//2.0/EN
VERSION:2.0
CALSCALE:GREGORIAN
BEGIN:VEVENT
UID:1f824cab62ef44942c50fcebeda67beb
DTSTAMP:20260423T131009Z
SUMMARY:Online seminář: BRAZÍLIE – aktuální stav a možnosti pro če
 ské firmy
DESCRIPTION:Název akce: Online seminář: BRAZÍLIE – aktuální stav a 
 možnosti pro české firmy\nURL: https://www.spcr.cz/online-seminar-brazi
 lie-aktualni-stav-moznosti-pro-ceske-firmy\nPopis: \n\nExportní online se
 minář\, který nabídne praktické informace pro české firmy od ředi
 tele zahraniční kanceláře CzechTrade v Sao Paulu\, Jana Michálka.\nV
 íce informací a registrace\n
URL:https://www.spcr.cz/online-seminar-brazilie-aktualni-stav-moznosti-pro-
 ceske-firmy
DTSTART:20211007T140000
DTEND:20211007T153000
LOCATION:
END:VEVENT
END:VCALENDAR
