BEGIN:VCALENDAR
PRODID:-//eluceo/ical//2.0/EN
VERSION:2.0
CALSCALE:GREGORIAN
BEGIN:VEVENT
UID:cba13248807c40f093f6bd032ac12b55
DTSTAMP:20260423T150246Z
SUMMARY:Eastlog 2021
DESCRIPTION:Název akce: Eastlog 2021\nURL: https://www.spcr.cz/eastlog-202
 1\nPopis: \n\nDvoudenní kongres\, který tematicky pokrývá celý obor l
 ogistiky. Cílem je inspirovat a informovat logistické profesionály o ak
 tuálním dění v oboru\, a zároveň jim poskytnout prostor pro sdílen
 í názorů a navázaní nových obchodních kontaktů.\nProgram kongresu 
 Eastlog 2021 cílí na největší výzvy v logistice.\n\nV pořadí 24. r
 očník kongresu Eastlog nabídne vystoupení čtyř desítek domácích i
  zahraničních řečníků a pět panelových diskuzí.\nO ekonomice po c
 ovidu bude přednášet Miroslav Singer\, někdejší guvernér České n
 árodní banky a současný hlavní ekonom Generali CEE Holding.\nRegistra
 ce na kongres je možná na www.eastlog.cz . Hlasování o nejlepší logi
 stickou inovaci probíhá na www.projektlogin.com/hlasovani.\n\nNový den\
 , nové výzvy. Tímto sloganem uvádějí pořadatelé letošní ročník
  Eastlogu\, jednoho z největších středoevropských kongresů zaměřen
 ých na logistiku a supply chain. „Pandemie změnila každou oblast živ
 ota. Některá odvětví se hluboce propadla\, jiným se naopak dařilo\, 
 ale všichni čelili zcela novým výzvám\,“ říká Jeffrey Osterroth\
 , ředitel společnosti Atoz Group\, která akci organizuje. Čtyřiadvac
 átý ročník kongresu se uskuteční ve dnech 23. a 24. září 2021 v m
 oderním kongresovém centru O2 universum v Praze. Registrace běží na w
 ww.eastlog.cz a je zdarma pro uživatele logistických produktů a služe
 b.\nMezi výzvy\, které se budou na kongresu diskutovat\, patří násled
 ující: Učinit logistiku udržitelnější\; Ustát bouři v ekonomice\;
  Digitalizovat a robotizovat\; Přijmout nové trendy v průmyslu\; Zvlád
 nout boom e-commerce. V souladu s tímto pojetím je program strukturován
  na společnou dopolední a odpolední část a dále na specializované w
 orkshopy (Autolog\, Retailog\, Digilog)\, které se budou věnovat jednotl
 ivým problémům. Závěr prvního konferenčního dne bude patřit Galav
 ečeru logistických inovací a Logistickému Business Mixeru. Druhý den 
 se uskuteční prohlídky logistických provozů.\nUdržitelnost na tisíc
  způsobůPo úvodním slovu a představení zlatých partnerů (společno
 sti Panattoni a Hopi Holding) je na programu úvodní inspirativní předn
 áška\, která bude mít tentokrát dva účinkující. Své pohledy na u
 držitelnost z hlediska průmyslu a životního prostředí budou prezento
 vat Petr Jonák (Svaz průmyslu a dopravy ČR) a Vojtěch Kotecký (Centru
 m pro otázky životního prostředí Univerzity Karlovy). Poté vystoupí
  prof. Vladimír Kočí (VŠCHT)\, který naznačí\, jaké jsou možnosti
  studií LCA při hledání cesty k udržitelnější logistice. Následuj
 ící programový bod bude patřit udržitelnému skladování\, které na
  praktickém příkladu představí Pavel Sovička (Panattoni) a Jan Turek
  (Coca-Cola HBC). Dopolední program uzavře panelová diskuze s názvem T
 isíc a jedna podoba udržitelnosti\, ve které se bude udržitelnost prob
 írat z mnoha pohledů. Debatovat budou Roman Bartišek (Albert Česká re
 publika)\, Kateřina Hájková (Gefco)\, Marianne Richeux (Brambles/Chep)\
 , Pavel Sovička (Panattoni)\, Jan Turek (Coca-Cola HBC) a Vojtěch Voseck
 ý (Circle Economy). Po obědě se program rozdělí do několik sekcí. R
 etailog zaštítil Svaz obchodu a cestovního ruchu ČR a jeho prezident T
 omáš Prouza zahájí workshop příspěvkem nazvaným Covidová revoluce
 : štěstí přálo připraveným a rychlým. Následně se účastníci s
 eznámí s velkou změnou v logistice společnosti Nestlé. Její čtyři 
 sklady z Česka a Slovenska se přestěhovaly do jednoho distribučního c
 entra holdingu Hopi\, který pro tohoto výrobce zajišťuje i dopravu a s
 lužby VAS. O bezemisní paletové distribuci v Praze pohovoří Jan Krupk
 a (Bosch Termotechnika) a Jan Polter (Dachser Czech Republic). Udržiteln
 á městská logistika bude téma příspěvku Anny Clark a Mariána Niče
  z EIT Urban Mobility. Sekci završí panelová diskuze\, která se bude z
 abývat městskou logistikou.Autolog se bude věnovat především logisti
 ckým výzvám v automobilovém průmyslu. S aktuální situací a dlouhod
 obými trendy v branži nejdříve seznámí Tomáš Jungwirth ze Sdružen
 í automobilového průmyslu\, které má nad workshopem patronát. Dále 
 se Iliyan Ivanov ze společnosti Škoda Auto zamyslí nad tím\, jak význ
 amný bude dopad nastupující elektromobility na dodavatelské řetězce.
  Účastníci si vyslechnou i případovou studii Josefa Brázdy\, Stefana
  Waltera Scharra (oba Continental Automotive) a Jindřich Kadeřávka (Ele
 ment Logic Czech Republic)\, která se bude týkat zdokonalení milk runu 
 pro zásobování linek a prvního nasazení systému Autostore v ČR. Wor
 kshop uzavře panelová diskuze s názvem Automotive na mnoha křižovatk
 ách najednou. Digilog\, nad kterým převzal záštitu Svaz průmyslu a d
 opravy ČR\, se bude věnovat automatizaci a robotizaci logistických proc
 esů. V úvodu vystoupí Jiří Holoubek (Svaz průmyslu a dopravy ČR) s 
 příspěvkem o rozvoji konceptu Průmysl 4.0 v českých podnicích. Proj
 ekt inteligentní logistiky v chlazeném režimu a provozní automatizace 
 představí Daniel Sabel (Hortim SK) a Peter Bílik (Anasoft). O digitaliz
 aci správy širokého portfolia dodavatelů budou hovořit Aleš Malucha 
 (Rohlík.cz) a Lubomír Veselý (GRiT). Zkušenosti\, současné využití
  a výhled do budoucna pro blockchain v logistice naznačí Petr Čermák 
 z Blockchain Connect | Czech Alliance. Program sekce ukončí panelová di
 skuze s názvem Nezastavitelný vzestup\, automatizace\, digitalizace a ro
 botiky.Ekonomika v hlavní roliPo specializovaných workshopech začne spo
 lečný odpolední program zaměřený na ekonomiku. Nejdříve vystoupí 
 někdejší guvernér ČNB Miroslav Singer (nyní hlavní ekonom Generali 
 CEE Holding) s příspěvkem nazvaným Nové karty\, nová hra. Zamyslí s
 e nad dopady pandemie na hospodářství a budoucí ekonomický vývoj. Mi
 roslav Singer se následně zúčastní panelové diskuze nazvané Hledán
 í dalšího ekonomického normálu. Své názory vyjádří rovněž Mart
 in Baláž (Prologis)\, Simona Kijonková (Packeta Group)\, Jiří Kristek
  (Cushman & Wakefield) a Jaroslav Žlábek (Toyota Material Handling CZ). 
 Moderovat bude Daniela Písařovicová (DVTV).Předání ocenění a netwo
 rkingV podvečer pak na účastníky čeká Galavečer logistických inova
 cí\, kdy budou oceněny nejlepší logistické nápady posledního roku\,
  a to v kategoriích Technická a technologická inovace roku\; Projektov
 á inovace roku\; Inovace v logistických realitách. Dále se bude vyhla
 šovat Fachman roku\, tedy osobnost\, která se profesně pohybuje v logis
 tice\, podporuje inovace a přispívá k realizaci inovativních projektů
 . Večerní program je plně zasvěcen zábavě a budování společenský
 ch kontaktů. Logistický Business Mixer se koná také v O2 universu a bu
 de plný her\, soutěží a rautového občerstvení. Na návštěvu do b
 ývalé Poldi\, dnes LidluPravidelnou součástí druhého kongresového d
 ne je sekce Seelog\, kdy se účastníci mohou podívat do logistických p
 rovozů. Tentokrát pořadatelé zvolili mj. nové distribuční centrum u
  Buštěhradu\, které za dvě miliardy korun vybudovala maloobchodní spo
 lečnost Lidl. Čerstvě otevřený sklad představuje jedno z největší
 ch logistických centrech tohoto řetězce v Evropě a rozprostírá se na
  někdejším brownfieldu oceláren Poldi. Sklad se nachází na téměř 
 60 000 metrech čtverečních\, nosnou konstrukci haly tvoří 600 betonov
 ých sloupů a instalované regály pojmou až 47 000 palet se zbožím. P
 racuje se zde ve všech teplotních režimech (suchý\, chlazený\, mraže
 ný). Návrh logistického centra charakterizovala snaha o minimalizaci sp
 otřeby energií\, což zahrnuje mj. rekuperaci odpadního tepla\, využit
 í dešťové vody\, instalaci LED svítidel i budoucí fotovoltaickou ele
 ktrárnu.Účastníky provede Martin Molnár\, jednatel společnosti Lidl 
 odpovědný za výstavbu. Z důvodu velkého zájmu o exkurzi a omezeného
  počtu míst dojde k losování účastníků. Podmínky pro zařazení j
 sou následující: jeden člověk z každé firmy\; registrace do pátku 
 3. září\; společnost Lidl má právo schválit vylosované účastník
 y. Přihlášku je možné podat zde: www.eastlog.cz/registrace. Eastlog 2
 021: Dosud zveřejnění řečníci:Martin Baláž\, PrologisRoman Bartiš
 ek\, Albert Česká republikaPeter Bílik\, AnasoftJosef Brázda\, Contine
 ntalAnna Clark\, EIT Urban MobilityPetr Čermák\, Blockchain Connect | Cz
 ech AllianceKatarína Dobišová\, NestléKateřina Hájková\, GefcoJiř
 í Holoubek\, Svaz průmyslu a dopravy ČRIliyan Ivanov\, Škoda AutoLaure
 nt Jechoux\, ConteraPetr Jonák\, Svaz průmyslu a dopravy ČRTomáš Jung
 wirth\, Sdružení automobilového průmysluJindřich Kadeřávek\, Elemen
 t Logic Czech RepublicSimona Kijonková\, Packeta Groupprof. Vladimír Ko
 čí\, VŠCHT PrahaJakub Kodr\, CTPVojtěch Kotecký\, Centrum pro otázky
  životního prostředí Univerzity KarlovyJiří Kristek\, Cushman & Wake
 fieldJan Krupka\, Bosch TermotechnikaAleš Malucha\, Rohlík.czMarián Ni
 č\, EIT Urban MobilityPavel Osička\, Linde Material HandlingDavid Piška
 nin\, Hopi HoldingMartin Piškanin\, Hopi HoldingJan Polter\, Dachser Czec
 h RepublicTomáš Prouza\, Svaz obchodu a cestovního ruchu ČRBranislav P
 uliš\, PhotoneoMarianne Richeux\, Brambles/ChepDaniel Sabel\, Hortim SKSt
 efan Walter Scharr\, ContinentalMiroslav Singer\, Generali CEE HoldingPave
 l Sovička\, PanattoniJan Turek\, Coca-Cola HBCPavel Včela\, GLS CZLubom
 ír Veselý\, GRiTVojtěch Vosecký\, Circle EconomyJaroslav Žlábek\, To
 yota Material Handling CZPodrobný program\, aktuality a registrace na kon
 gres: www.eastlog.cz Hlasování – Ocenění Log-in: www.projektlogin
 .com/hlasovani \n
URL:https://www.spcr.cz/eastlog-2021
DTSTART:20210923T000000
DTEND:20210924T235959
LOCATION:
END:VEVENT
END:VCALENDAR
