BEGIN:VCALENDAR
PRODID:-//eluceo/ical//2.0/EN
VERSION:2.0
CALSCALE:GREGORIAN
BEGIN:VEVENT
UID:4ec30c2cc4e63dfc584e2f74ac482ce6
DTSTAMP:20260423T163342Z
SUMMARY:Startup Chile - webinář k novým výzvám
DESCRIPTION:Název akce: Startup Chile - webinář k novým výzvám\nURL: 
 https://www.spcr.cz/startup-chile-webinar-k-novym-vyzvam\nPopis: \n\nSrde
 čně Vás zveme na webinář\, který se uskuteční dne 21. září 2021
  od 15 hod. online\, odkaz Vám bude zaslán na základě registrace pozd
 ěji. Webinář je pořádán ve spolupráci s Velvyslanectvím Chilské 
 republiky v Praze a chilskou agenturou Startup Chile a naváže na předc
 hozí akce s daným tématem. V rámci akce Sergio Montero\, manažer n
 áboru talentů Startup Chile\, představí českému publiku chilské pro
 gramy na podporu startupů: Build\, Ignite a Grow z hlediska nové výzvy
 \, která se otevře 12. října 2021.\nProgramy jsou určeny startupům v
  různé fázi vývoje. V průběhu webináře se dozvíte proč pro svo
 u expanzi zvolit právě Chile\, jaké jsou podmínky nové výzvy a jak v
  ní uspět.\nAkce proběhne v anglickém jazyce.\nÚčast je zdarma\, p
 ouze pro registrované. Přihlásit se můžete zde do 20. září 2021.\n
URL:https://www.spcr.cz/startup-chile-webinar-k-novym-vyzvam
DTSTART:20210921T150000
DTEND:20210921T170000
LOCATION:
END:VEVENT
END:VCALENDAR
