BEGIN:VCALENDAR
PRODID:-//eluceo/ical//2.0/EN
VERSION:2.0
CALSCALE:GREGORIAN
BEGIN:VEVENT
UID:f7254881bae624be1f2a7d7a85f2044f
DTSTAMP:20260423T150422Z
SUMMARY:Konference Evropské asociace pro lehké materiály
DESCRIPTION:Název akce: Konference Evropské asociace pro lehké materiál
 y\nURL: https://www.spcr.cz/konference-evropske-asociace-pro-lehke-materia
 ly\nPopis: \n\nRakouské spolkové ministerstvo pro klimatické změny\, 
 životní prostředí\, energii\, mobilitu\, inovace a technologie organiz
 uje dvoudenní konferenci pro firmy a výzkumné ústavy se specializací 
 v oblasti průmyslových lehkých materiálů. Konference je zároveň dr
 uhým sekáním Evropské asociace pro lehké materiály (European Lightwe
 ighting Network).\nDvoudenní program zahrnuje úvodní konferenci o novi
 nkách v oblasti lehkých materiálů\, možnostech rozvoje podnikání v
  této oblasti a jejich významu pro konkurenceschopnost Evropské unie. 
 V rámci této vstupní konference mohou účastníci také prezentovat s
 vé technologie. Úvodní konference probíhá prezenční formou\, bude v
 šak také živě vysílána.\nMožnost registrace na online přenos úvo
 dní konference.\nV případě dotazů a pro registraci prezenční účas
 ti se prosím obracejte přímo na organizátory:\nFlorian Supe\, BA BA MA
  MA+43 1 71162 653107mobile: +43 664 8108860Radetzkystraße 2\, 1030 Vienn
 a\, Austriaflorian.supe@bmk.gv.atwww.bmk.gv.at/ infothek.bmk.gv.at\n
URL:https://www.spcr.cz/konference-evropske-asociace-pro-lehke-materialy
DTSTART:20210923T080000
DTEND:20210924T235959
LOCATION:
END:VEVENT
END:VCALENDAR
