BEGIN:VCALENDAR
PRODID:-//eluceo/ical//2.0/EN
VERSION:2.0
CALSCALE:GREGORIAN
BEGIN:VEVENT
UID:f0e56c998d0a9dd334cd8b2f8e374672
DTSTAMP:20260423T162621Z
SUMMARY:Online seminář: Export do NĚMECKA v oblasti zdravotnických pros
 tředků
DESCRIPTION:Název akce: Online seminář: Export do NĚMECKA v oblasti zdr
 avotnických prostředků\nURL: https://www.spcr.cz/online-seminar-export-
 do-nemecka-v-oblasti-zdravotnickych-prostredku\nPopis: \n\nExportní semin
 ář pro české zdravotnické firmy se zájmem o export do Německa.\nVí
 ce informací a registrace\n
URL:https://www.spcr.cz/online-seminar-export-do-nemecka-v-oblasti-zdravotn
 ickych-prostredku
DTSTART:20210914T100000
DTEND:20210914T120000
LOCATION:
END:VEVENT
END:VCALENDAR
