BEGIN:VCALENDAR
PRODID:-//eluceo/ical//2.0/EN
VERSION:2.0
CALSCALE:GREGORIAN
BEGIN:VEVENT
UID:39bc9dda37d94dd811662037a10fca19
DTSTAMP:20260423T163004Z
SUMMARY:10. ročník Profesia days a HR days
DESCRIPTION:Název akce: 10. ročník Profesia days a HR days\nURL: https:/
 /www.spcr.cz/10-rocnik-profesia-days-hr-days\nPopis: \n\nPŘIJĎTE NAJÍT 
 NOVÉ ZAMĚSTNANCE NA PROFESIA DAYS\nProfesia days je oblíbený veletrh p
 ráce\, kde se každý rok sejdou tisíce zájemců o nové pracovní a vz
 dělávací možnosti. Firmám nabízí nejen možnost potkat se s novými
  uchazeči o zaměstnání\, představit sebe jako zajímavého zaměstnav
 atele\, ale zároveň navázat nové obchodní a profesní kontakty. Souč
 ástí akce je doprovodný program. Více o veletrhu a rezervaci stánku n
 ajdete na www.profesiadays.cz. \nINSPIRACE PRO PERSONALISTY NA HR DAYS\nO
 dborný veletrh HR days se zaměřuje na oblast lidských zdrojů\, aktuá
 lní trendy a řešení v oboru a je určen personalistům\, HR manažerů
 m\, koučům\, lektorům i managementu firem. Návštěvníci se setkají 
 s experty v oboru a v neformálním prostředí mohou prodiskutovat konkr
 étní problémy\, které se v oblasti HR řeší. Ani letos nebude chybě
 t mentoring od Business & Professional Women a individuální koučink od 
 Koučink centrum. Vstup na HR days je pro odbornou veřejnost zdarma\, sta
 čí se zaregistrovat na www.hrdays.cz\, kde najdete i seznam vystavovatel
 ů\, přednášejících a program. Obě akce se budou konat 6. – 7. 10.
  2021 v areálu PVA EXPO PRAHA. Organizátorem je společnost Profesia CZ\
 , spol. s r.o.\, provozovatel pracovního portálu Profesia.cz.\nNad velet
 rhy převzal záštitu i Svaz průmyslu a dopravy. Aktuality a další in
 formace k programu budou postupně přibývat na www.profesiadays.cz a ww
 w.hrdays.cz.\n
URL:https://www.spcr.cz/10-rocnik-profesia-days-hr-days
DTSTART:20211006T000000
DTEND:20211007T235959
LOCATION:
END:VEVENT
END:VCALENDAR
