BEGIN:VCALENDAR
PRODID:-//eluceo/ical//2.0/EN
VERSION:2.0
CALSCALE:GREGORIAN
BEGIN:VEVENT
UID:a1a41201484abd37060c95cac949bb83
DTSTAMP:20260423T145923Z
SUMMARY:Webinář: Nové obchodní příležitosti v těžebním průmyslu 
 v CHILE
DESCRIPTION:Název akce: Webinář: Nové obchodní příležitosti v těž
 ebním průmyslu v CHILE\nURL: https://www.spcr.cz/webinar-nove-obchodni-p
 rilezitosti-v-tezebnim-prumyslu-v-chile\nPopis: \n\nAktuální informace z
  chilského trhu se zaměřením na perspektivní těžební průmysl př
 inese českým firmám Jiří Jílek\, ředitel regionálního centra L
 atinská Amerika a vedoucí zahraniční kanceláře CzechTrade v Santiago
  de Chile. \nRegistrace a další informace\n
URL:https://www.spcr.cz/webinar-nove-obchodni-prilezitosti-v-tezebnim-prumy
 slu-v-chile
DTSTART:20210908T140000
DTEND:20210908T153000
LOCATION:
END:VEVENT
END:VCALENDAR
