BEGIN:VCALENDAR
PRODID:-//eluceo/ical//2.0/EN
VERSION:2.0
CALSCALE:GREGORIAN
BEGIN:VEVENT
UID:726a1e40d384b0af62a2f44b4becb69c
DTSTAMP:20260423T172412Z
SUMMARY:Webinář s expertkou na imigrační právo UK 
DESCRIPTION:Název akce: Webinář s expertkou na imigrační právo UK \nU
 RL: https://www.spcr.cz/webinar-s-expertkou-na-imigracni-pravo-uk\nPopis: 
 \n\nWebinář s expertkou na imigrační právo UK Laurou Devine. S brexit
 em se výrazně změnily podmínky cestování pro pracovní účely\, zej
 ména u dlouhodobých pobytů.\nWebinář se uskuteční 16. 9. 2021 od 16
 :00 CET / 15:00 BST\, link a informace o webináři jsou zde: http://cbcc.
 org.uk/News?News=250\nWebinář je zdarma.\n
URL:https://www.spcr.cz/webinar-s-expertkou-na-imigracni-pravo-uk
DTSTART:20210916T160000
DTEND:20210916T170000
LOCATION:
END:VEVENT
END:VCALENDAR
