BEGIN:VCALENDAR
PRODID:-//eluceo/ical//2.0/EN
VERSION:2.0
CALSCALE:GREGORIAN
BEGIN:VEVENT
UID:c5fd31cb59037120adbaef9c28779836
DTSTAMP:20260423T124801Z
SUMMARY:Česko-vietnamské obchodní fórum
DESCRIPTION:Název akce: Česko-vietnamské obchodní fórum\nURL: https://
 www.spcr.cz/cesko-vietnamske-obchodni-forum\nPopis: \n\nČesko-vietnamské
  obchodní fórum\nKDE: A1 Buffet\, tržnice Vinamo\, Olomoucká 1193/61a\
 , Brno KDY: Pátek\, 10. září 2021 od 10 do 15 hodin\nVážení obchodn
 í přátelé\,  Svaz průmyslu a dopravy\, Ministerstvo financí\, Svaz v
 ietnamských podnikatelů v ČR a Česko-vietnamský vzdělávací institu
 t vás zvou na Česko-vietnamské obchodní fórum.  Účast je zdarma\, a
 le podléhá registraci:  Registrace (do středy\, 8. září)\nVíce inf
 ormací najdete v přiloženém programu.\n
URL:https://www.spcr.cz/cesko-vietnamske-obchodni-forum
DTSTART:20210910T100000
DTEND:20210910T150000
LOCATION:
END:VEVENT
END:VCALENDAR
