BEGIN:VCALENDAR
PRODID:-//eluceo/ical//2.0/EN
VERSION:2.0
CALSCALE:GREGORIAN
BEGIN:VEVENT
UID:65e55f81c54c2d3eb87437b0fd161393
DTSTAMP:20260423T125705Z
SUMMARY:Webinář: Dovoz zboží se značením CE na trh Velké Británie
DESCRIPTION:Název akce: Webinář: Dovoz zboží se značením CE na trh V
 elké Británie\nURL: https://www.spcr.cz/webinar-dovoz-zbozi-se-znacenim-
 ce-na-trh-velke-britanie\nPopis: \n\nDne 24. 8. 2021 britská vláda přij
 ala rozhodnutí prodloužit datum ukončení uznávání označení CE na 
 již posouzených výrobcích určených pro britský trh až do 1.1.2023 
 (https://www.ukas.com/resources/latest-news/ce-mark-acceptance-extended-to
 -2023/)\, tzn. že zboží označené CE může být i nadále uváděné 
 na trh Velké Británie až do uvedeného termínu\, který nebude již d
 ále prodlužován. Výrobky uváděné na britský trh po 1.1.2023 budou 
 muset nést označení "UKCA" (UK conformity assesed)\, úplný seznam vš
 ech produktových řad pokrytých označením UKCA lze nalézt zde.   Brit
 ské Ministerstvo obchodu\, energetiky a průmyslové strategie (BEIS) po
 řádá ve čtvrtek\, 2. 9. 2021\, webinář s názvem "Manufactured goods
  regulation – placing goods on the market in GB and NI"\, který je urč
 en pro obchodní společnosti\, organizace a asociace a je zaměřen na vy
 světlení změn a kroků\, které je třeba učinit pro přizpůsobení s
 e novým pravidlům - viz pozvánka. \n\n\n\n\nRNDr. KLÁRA POPADIČOVÁ \
 n\n\n\n\nodborný rada  zástupce ředitele Odboru mezinárodních vztahů
   vedoucí oddělení EU a mezinárodní spolupráce\n\n\n\n\n Telefon: +4
 20 221 802 208  Mobil: +420 603 431 994  E-mail: radaeu@unmz.cz  Biskupsk
 ý dvůr 1148/5 110 00 Praha 1  změna pracoviště od 1.8.2020  Na Žertv
 ách 132/24\, Praha 8\, 180 00\n\n\n\n\nwww.unmz.cz\n
URL:https://www.spcr.cz/webinar-dovoz-zbozi-se-znacenim-ce-na-trh-velke-bri
 tanie
DTSTART:20210902T150000
DTEND:20210902T160000
LOCATION:
END:VEVENT
END:VCALENDAR
