BEGIN:VCALENDAR
PRODID:-//eluceo/ical//2.0/EN
VERSION:2.0
CALSCALE:GREGORIAN
BEGIN:VEVENT
UID:e490c739997537a4fb20bc8562a77efb
DTSTAMP:20260423T124932Z
SUMMARY:CA Summit 2021
DESCRIPTION:Název akce: CA Summit 2021\nURL: https://www.spcr.cz/ca-summit
 -2021\nPopis: \n\nCA SUMMIT 2021 s podtitulem „Odolnost a integrita org
 anizace: firemní kultura\, etika\, compliance\, řízení rizik a krizov
 é řízení v období prudkých změn“ se koná pod patronací SP ČR. 
 Proběhne 20. září 2021 v kongresovém centru Cubex Centrum Praha na pr
 ažském Pankráci. Konference je letos koncipována jako diskuzní fórum
  a proto nabídne sérii mnoha moderovaných odborných panelových debat.
  Součástí akce bude i její networkingový prvek a možnost se během c
 elého dne setkat a navázat kontakt s dalšími profesionály v oborů co
 mpliance\, řízení rizik a bezpečnosti.\nCA SUMMIT zahájí keynote vic
 epremiéra Karla Havlíčka\, po kterém bude následovat panelová diskuz
 e generálních ředitelů významných českých firem.\nPo této úvodn
 í části bude konference rozdělena do dvou tematických bloků. První 
 blok se bude pod hlavičkou Compliance Academy věnovat compliance\, firem
 ní kultuře\, trestní odpovědnost právnických osob\, whistleblowingu 
 či řízení rizik třetích stran. Druhý blok se pod hlavičkou Asociac
 e kritické infrastruktury ČR zaměří na otázky týkající se nových
  hrozeb\, bezpečnosti\, krizového řízení\, kritické infrastruktury\,
  jejího legislativního zakotvení\, nebo problematice business continuit
 y a supply chain security.\n\nVíce informací o konferenci včetně podro
 bného programu najdete na webu konference\, kde si můžete zároveň pro
 střednictvím registračního formuláře objednat vstupenky. Členové S
 P ČR mají možnost využít slevu v hodnotě 500 Kč (o slevový kód si
  napište na ogbelec@spcr.cz).\n
URL:https://www.spcr.cz/ca-summit-2021
DTSTART:20210920T080000
DTEND:20210920T170000
LOCATION:
END:VEVENT
END:VCALENDAR
