BEGIN:VCALENDAR
PRODID:-//eluceo/ical//2.0/EN
VERSION:2.0
CALSCALE:GREGORIAN
BEGIN:VEVENT
UID:3bea4c5e263b35a94742dadc42e931b3
DTSTAMP:20260423T145744Z
SUMMARY:Podnikatelská mise do Estonska\, Lotyšska a Litvy s předsedou Se
 nátu
DESCRIPTION:Název akce: Podnikatelská mise do Estonska\, Lotyšska a Litv
 y s předsedou Senátu\nURL: https://www.spcr.cz/podnikatelska-mise-do-est
 onska-lotysska-litvy-s-predsedou-senatu-0\nPopis: \n\nZveme Vás na podnik
 atelskou misi\, která bude doprovázet předsedu Senátu Parlamentu ČR p
 ana Miloše Vystrčila do Estonska\, Lotyšska a Litvy. Mise se uskutečn
 í ve dnech 31. října až 4. listopadu 2021 a z pověření Senátu ji 
 organizuje Svaz průmyslu a dopravy ČR. Podnikatelskou delegaci povede pr
 ezident svazu Jaroslav Hanák.\nHlavním bodem cesty budou podnikatelská 
 fóra\, která se uskuteční v Tallinnu\, Rize a Vilniusu a na která bud
 ou přizvány firmy oslovené místními partnerskými komorami. Fóra zah
 ájí předseda Senátu Miloš Vystrčil za účasti svých protějšků.\
 nÚčast v delegaci doporučujeme firmám působícím zejména v těchto 
 oblastech:\n\ndopravní průmysl a infrastruktura\, energetika\, elektrote
 chnika\, ICT\, zdravotnická technika\, farmaceutický průmysl\, chemick
 ý průmysl\, ad.\n\nUzávěrka závazných přihlášek je 27. září 20
 21.\nZálohová cena za účast v podnikatelské delegaci je 44 500 Kč\, 
 pro členské firmy SP ČR platí zvýhodněná cena 42 300 Kč.\nVíce i
 nformací o misi je k dispozici ZDE.\n
URL:https://www.spcr.cz/podnikatelska-mise-do-estonska-lotysska-litvy-s-pre
 dsedou-senatu-0
DTSTART:20211031T000000
DTEND:20211104T235959
LOCATION:
END:VEVENT
END:VCALENDAR
