BEGIN:VCALENDAR
PRODID:-//eluceo/ical//2.0/EN
VERSION:2.0
CALSCALE:GREGORIAN
BEGIN:VEVENT
UID:ccb35183466fc1f019cfdfd25627f399
DTSTAMP:20260423T125849Z
SUMMARY:Slovenská kooperačná burza 2021 Bratislava
DESCRIPTION:Název akce: Slovenská kooperačná burza 2021 Bratislava\nURL
 : https://www.spcr.cz/slovenska-kooperacna-burza-2021-bratislava-0\nPopis:
  \n\nInformace k akci\n
URL:https://www.spcr.cz/slovenska-kooperacna-burza-2021-bratislava-0
DTSTART:20211021T080000
DTEND:20211021T170000
LOCATION:
END:VEVENT
END:VCALENDAR
