BEGIN:VCALENDAR
PRODID:-//eluceo/ical//2.0/EN
VERSION:2.0
CALSCALE:GREGORIAN
BEGIN:VEVENT
UID:82a78e0d6172ad4c4393db9f951c6a31
DTSTAMP:20260423T130007Z
SUMMARY:Podnikatelská mise s předsedou Senátu do Pobaltských zemí
DESCRIPTION:Název akce: Podnikatelská mise s předsedou Senátu do Pobalt
 ských zemí\nURL: https://www.spcr.cz/podnikatelska-mise-s-predsedou-sena
 tu-do-pobaltskych-zemi\nPopis: \n\nSAVE THE DATE (31.10 - 4.11): Podnikate
 lská mise doprovázející předsedu Senátu Miloše Vystrčila do Pobalt
 ských zemí (Estonsko\, Litva\, Lotyšsko).\n
URL:https://www.spcr.cz/podnikatelska-mise-s-predsedou-senatu-do-pobaltskyc
 h-zemi
DTSTART:20211031T080000
DTEND:20211104T170000
LOCATION:
END:VEVENT
END:VCALENDAR
