BEGIN:VCALENDAR
PRODID:-//eluceo/ical//2.0/EN
VERSION:2.0
CALSCALE:GREGORIAN
BEGIN:VEVENT
UID:51b376711e4ad076a9331ba80b2544b7
DTSTAMP:20260423T150509Z
SUMMARY:Investiční webinář s Haryanou - Indie
DESCRIPTION:Název akce: Investiční webinář s Haryanou - Indie\nURL: ht
 tps://www.spcr.cz/investicni-webinar-s-haryanou-indie-0\nPopis: \n\nWebin
 ář organizovaný Velvyslanectvím České republiky v Dillí se uskute
 ční v pátek 20. srpna od 11\,00 h českého času. \nInvestičního a 
 obchodního webináře se zúčastní velvyslanec České republiky v Indi
 i Milan Hovorka a vysocí představitelé vlády indického svazového st
 átu Haryana.Svazový stát Haryana patří mezi nejprůmyslovější čá
 sti Indie s rozvinutými automobilovým či obranným sektorem či vyspěl
 ým pobídkovým systémem pro zahraniční investory. Mezi silné stránk
 y patří rovněž strategická poloha brány do severní Indie a bezprost
 řední blízkost megalopole Dillí\, z čehož těží jako spádový re
 gion.\n\nVelvyslanectví České republiky v Dillí vybízí české spo
 lečnosti k účasti\, a to jak aktivní formou s možností prezentace 
 indickým partnerům\, tak jako účastníky\, přičemž v každém př
 ípadě je účast zdarma.  Další informace zde: https://www.mzv.cz/ne
 wdelhi/cz/oeu/velvyslanectvi_zve_ceske_firmy_k_ucasti_1.htmlWebinář se u
 skuteční v pátek 20. srpna od 11\,00 českého času. Za indickou stran
 u bude hlavním hostem Principal Secretary vlády státu Haryanu - tedy ú
 roveň náměstka ministra.\nV případě zájmu  prosím kontaktujte obc
 hodní úsek na e-mailu Milan_Dostal@mzv.cz\n
URL:https://www.spcr.cz/investicni-webinar-s-haryanou-indie-0
DTSTART:20210820T110000
DTEND:20210820T130000
LOCATION:
END:VEVENT
END:VCALENDAR
