BEGIN:VCALENDAR
PRODID:-//eluceo/ical//2.0/EN
VERSION:2.0
CALSCALE:GREGORIAN
BEGIN:VEVENT
UID:066e627cf9fd7a36a67f127ea02ec49d
DTSTAMP:20260423T145949Z
SUMMARY:Podnikatelská mise do SAE a Saudské Arábie
DESCRIPTION:Název akce: Podnikatelská mise do SAE a Saudské Arábie\nURL
 : https://www.spcr.cz/podnikatelska-mise-do-sae-saudske-arabie\nPopis: \n\
 nZveme Vás k účasti v podnikatelské misi Svazu průmyslu a dopravy Č
 R\, která bude doprovázet ministra zahraničních věcí České republi
 ky Jakuba Kulhánka při návštěvě Jordánského hášimovského král
 ovství a Království Saudské Arábie\, a to ve dnech 12. až 15. zá
 ří 2021.\nPozn.: Cesta do Jordánska byla stran MZV zrušena a nahrazena
  Spojenými arabskými emiráty.\nPodle rámcového programu navštíví d
 elegace Ammán a Rijád\, kde Svaz průmyslu a dopravy ČR zorganizuje ve 
 spolupráci s Velvyslanectvím ČR v obou hlavních městech a s partne
 rskými organizacemi Jordan Europe Business Association (JEBA) a Council o
 f Saudi Chambers (CSC) podnikatelská fóra a B2B jednání\, kde budou m
 ít české firmy příležitost prezentovat své výrobky a technologie z
 ainteresovaným partnerům z obou zemí a další doprovodný program. Z
 aměření podnikatelské mise bude zejména na energetický průmysl\, ob
 ranný průmysl\, ICT\, zdravotnický a farmaceutickým průmysl\, těžeb
 ní průmysl včetně smart technologií. Účast v podnikatelské delega
 ci se nabízí rovněž firmám z dalších oblastí dle rozpracovaných 
 či plánovaných projektů firem. Účast v misi bude možná jen v p
 řípadě uzavřeného očkování a minimálně 14 dní od druhé dávky
 . Uzávěrka závazných přihlášek bude ve středu 11. srpna 2021.\nPo
 zvánka s dalšími informacemi a dispozicemi k cestě včetně rámcové
 ho programu zde.Podnikatelskou misi organizačně zajišťuje manažerka 
 Sekce mezinárodních vztahů Mgr. Sabina Tančevová (stancevova@spcr.cz)
 . Bližší informace Vám poskytneme na tel. 225 279 402 nebo 605 089 5
 99.\n
URL:https://www.spcr.cz/podnikatelska-mise-do-sae-saudske-arabie
DTSTART:20210912T000000
DTEND:20210912T235959
LOCATION:
END:VEVENT
END:VCALENDAR
