BEGIN:VCALENDAR
PRODID:-//eluceo/ical//2.0/EN
VERSION:2.0
CALSCALE:GREGORIAN
BEGIN:VEVENT
UID:9906d386b144291a209073becb3f3f65
DTSTAMP:20260423T173720Z
SUMMARY:Podnikatelská mise do Polska s předsedou Senátu
DESCRIPTION:Název akce: Podnikatelská mise do Polska s předsedou Senátu
 \nURL: https://www.spcr.cz/podnikatelska-mise-do-polska-s-predsedou-senatu
 \nPopis: \n\nZveme Vás na podnikatelskou misi doprovázející předsedu 
 Senátu Parlamentu ČR Miloše Vystrčila do Polska.\nVíce informací\n
URL:https://www.spcr.cz/podnikatelska-mise-do-polska-s-predsedou-senatu
DTSTART:20210830T080000
DTEND:20210831T190000
LOCATION:
END:VEVENT
END:VCALENDAR
