BEGIN:VCALENDAR
PRODID:-//eluceo/ical//2.0/EN
VERSION:2.0
CALSCALE:GREGORIAN
BEGIN:VEVENT
UID:21355569917975063445bff87a882893
DTSTAMP:20260423T173612Z
SUMMARY:Mining & Construction Vehicle Expo 2021 in India
DESCRIPTION:Název akce: Mining & Construction Vehicle Expo 2021 in India\n
 URL: https://www.spcr.cz/mining-construction-vehicle-expo-2021-india\nPopi
 s: \n\nInvitation to participate in the Mining & Construction Vehicle Expo
  concurrently with 5th International Truck Trailer and Tyre Expo 2021 bei
 ng held at Jaipur Exhibition and Convention Centre\, Jaipur from 03rd to 
 05th September 2021.\nThe Mining & Construction Vehicle Expo is an apt op
 portunity for Manufacturers\, OEMs and allied industry involved in the man
 ufacture of Mining Vehicles\, Construction Vehicles\, Industrial Vehicles 
 and Off Road Tyre and part manufacturers to reach the targeted audience an
 d reach new marketing avenues and explore the markets.\nThe Expo is suppor
 ted by the Rajasthan Chambers of Commerce and Industry\, The Mining Associ
 ation of Rajasthan and other leading bodies.\nThe rapid urbanization and i
 ndustrialization in the country has seen tremendous growth in the mining a
 nd construction equipment sector in India.\nThe Construction market is exp
 ected to become the 3 largest in the world by 2022. Projects of the Govern
 ment like Housing for All and Smart City Mission has been a catalyst in th
 is growth. With 100% FDI allowed in the mining sector\, the sector is expe
 cted to see a major growth in investments.\nThis opening up of the constru
 ction and mining industry has generated the need for construction and mini
 ng equipment and the sector is expected to see a growing demand. According
  to ICAR the mining and construction equipment volume is expected to grow 
 by 20% in 2021\n  Why Rajasthan \nOne of the biggest states in India\, 
 Rajasthan has been world famous for building stones. The state has one of 
 the oldest metal deposits dating back to 3\,500 million years and produces
  about 57 different minerals. It holds the position of being the sole prod
 ucer of Lead and Zinc ores\, selenite and wollastonite. Makrana area in Ra
 jasthan is world famous for its marble mining. Along with marble\, granite
 \, sandstone & Kota stone of various shades are available in the state. Th
 e state has both open cast and deep mining. Almost the entire production o
 f calcite\, natural gypsum and silver in the country comes from Rajasthan.
  The State is a major producer of ball clay\, calcite\, clay\, copper ore/
 conc.\, feldspar\, fireclay\, limestone\, ochre\, phosphorite/rock phospha
 te and steatite. The economic liberalization by the central govt in 1991 o
 pened up power generation\, mining and metallurgical industries for privat
 e investment in the sector\, the reforms in policy in 1994 allowed 100% fo
 reign equity opening the segment to international players.\n Thus\, the M
 ining & Construction Vehicle Expo 2021 will offer participants an opportun
 ity to get acquainted with the latest trends\, as well as create condition
 s to expand cooperation and establish new business relationships that will
  boost investment and introduce new technologies in the Automobile sector 
 of India. Therefore\, we are glad to invite to participate in the Mining 
 & Construction Vehicle Expo 2021 to promote your products and services amo
 ng the visitors coming to attend the exhibition. As an exhibitor\, you wou
 ld be able to enjoy a significant brand visibility among a large audience\
 , and it would surely provide a huge networking platform and explore oppor
 tunities of business promotion. \nA copy of the Brochure and stall Tariff
  are enclosed for your ready reference and more details of the event and S
 ponsorship Options are also available at https://trucktrailerntyreexpo.co
 m/mining-construction/Download Brochure\nFor Sponsorship or stall bookings
  or any other clarifications\, please feel free to contact the undersigned
 .\nAahanaMedia Day Marketingteam@mediaday.co.inNo:16-2-741/D/24\, 2nd Floo
 r\,Fazilat Manzil\, beside TV TowerMalakpet\, Hyderabad-500036 T.S.Mobile:
 +91-9177180741\n
URL:https://www.spcr.cz/mining-construction-vehicle-expo-2021-india
DTSTART:20210903T000000
DTEND:20210905T235959
LOCATION:
END:VEVENT
END:VCALENDAR
