BEGIN:VCALENDAR
PRODID:-//eluceo/ical//2.0/EN
VERSION:2.0
CALSCALE:GREGORIAN
BEGIN:VEVENT
UID:d6cbcf5f54acced3a921f694a364467d
DTSTAMP:20260423T130943Z
SUMMARY:Webinář: Privatizace státních podniků na Ukrajině - přílež
 itosti a doporučení pro české investory
DESCRIPTION:Název akce: Webinář: Privatizace státních podniků na Ukra
 jině - příležitosti a doporučení pro české investory\nURL: https:/
 /www.spcr.cz/webinar-privatizace-statnich-podniku-na-ukrajine-prilezitosti
 -doporuceni-pro-ceske-investory\nPopis: \n\nDovolujeme si Vás pozvat na o
 n-line seminář\, který se bude zabývat příležitostmi v rámci nadch
 ázející privatizace státních podniků na Ukrajině. Akci pořádá ad
 vokátní kancelář GOLAW ve spolupráci s exportní pojišťovnou EGAP z
 a podpory Velvyslanectví Ukrajiny v ČR.\nHlavní tématické okruhy semi
 náře:\n\nJak funguje privatizace na Ukrajině: typy aktiv a obecný popi
 s postupu\nKvalifikační požadavky na kupce\nSpecifika účasti zahrani
 čních investorů\nFinancování privatizace\nPraktické tipy a příklad
 y úspěšných privatizací\nPojištění investic na Ukrajině se zapoje
 ním EGAP\n\nWebinář se koná 1. července od 10:00 (11:00 ukrajinského
  času) a bude tlumočen do AJ.\nRegistrace je možná na tomto odkazu.\nV
 íce informací je k dispozici na těchto webových stránkách.\n \n
URL:https://www.spcr.cz/webinar-privatizace-statnich-podniku-na-ukrajine-pr
 ilezitosti-doporuceni-pro-ceske-investory
DTSTART:20210701T100000
DTEND:20210701T120000
LOCATION:
END:VEVENT
END:VCALENDAR
