BEGIN:VCALENDAR
PRODID:-//eluceo/ical//2.0/EN
VERSION:2.0
CALSCALE:GREGORIAN
BEGIN:VEVENT
UID:0aee272d762ec6beddc9d7064a337eb6
DTSTAMP:20260423T125756Z
SUMMARY:Open Strategic Autonomy and International Partnerships – Building
  Safe Data Spaces
DESCRIPTION:Název akce: Open Strategic Autonomy and International Partners
 hips – Building Safe Data Spaces\nURL: https://www.spcr.cz/open-strategi
 c-autonomy-and-international-partnerships-building-safe-data-spaces\nPopis
 : \n\nOn behalf of the Confederation of Industry of the Czech Republic we 
 invite you to an online event designed to offer insights\, leadership and 
 forward momentum for building international partnerships among EU and like
 minded countries to collaborate on digital transformation\, boost EU’s c
 ompetitiveness\, technology leadership and resilience.\nThe panel will tak
 e the opportunity to focus on realistic ambitions and opportunities and fi
 nding solutions to problems and ways of working around obstacles and will 
 come up with concrete recommendations related to safe data transfers and p
 latforms for enhanced collaboration.\nAgenda\n10:00 – 10:05 Welcome and 
 IntroductionMilena Jabůrková\, Vice-President\, Confederation of Industr
 y of the Czech Republic\n10:05 – 10:20 Opening SpeechVěra Jourová\, Vi
 ce-President\, European Commission\n10:20 – 11:30 Discussion PanelDita C
 haranzová\, Vice-President\, European ParliamentChristophe Kiener\, Actin
 g Director in charge of Services and Digital Trade\, Investment and Intell
 ectual Property\, DG TradeLuisa Santos\, Deputy Director General\, Busines
 sEuropeHosuk Lee-Makiyama\, Director\, European Centre for International P
 olitical Economy (ECIPE)Shane McNamee\, Chief Privacy Officer\, AVASTModer
 ator: Milena Jabůrková\, Vice-President\, Confederation of Industry of t
 he Czech Republic\n11:30 – 11:50 Questions and Answers\n11:50 – 12:00 
 Closing Remarks\nRegistration\n\nPlease register here.\n
URL:https://www.spcr.cz/open-strategic-autonomy-and-international-partnersh
 ips-building-safe-data-spaces
DTSTART:20210629T100000
DTEND:20210629T120000
LOCATION:
END:VEVENT
END:VCALENDAR
