BEGIN:VCALENDAR
PRODID:-//eluceo/ical//2.0/EN
VERSION:2.0
CALSCALE:GREGORIAN
BEGIN:VEVENT
UID:75277b561e56fd0cacde973bab802762
DTSTAMP:20260423T172605Z
SUMMARY:E-MEET EXPORT 2021
DESCRIPTION:Název akce: E-MEET EXPORT 2021\nURL: https://www.spcr.cz/e-mee
 t-export-2021\nPopis: \n\nOnline konzultace s řediteli zahraničních kan
 celáří CzechTrade a vybranými ekonomickými diplomaty organizuje agent
 ura CzechTrade v termínu 23. - 25. června 2021.\nVíce informací a form
 ulář pro zaregistrování naleznete pod tímto odkazem.\n
URL:https://www.spcr.cz/e-meet-export-2021
DTSTART:20210623T000000
DTEND:20210625T235959
LOCATION:
END:VEVENT
END:VCALENDAR
