BEGIN:VCALENDAR
PRODID:-//eluceo/ical//2.0/EN
VERSION:2.0
CALSCALE:GREGORIAN
BEGIN:VEVENT
UID:8cb7b61a4fdf878495a05d4c6ffe5e14
DTSTAMP:20260423T125849Z
SUMMARY:Konzultace s ekonomickými diplomaty (prezenčně)
DESCRIPTION:Název akce: Konzultace s ekonomickými diplomaty (prezenčně)
 \nURL: https://www.spcr.cz/konzultace-s-ekonomickymi-diplomaty-prezencne\n
 Popis: \n\nSvaz průmyslu a dopravy ČR opět po roční odmlce způsoben
 é pandemií Covid-19 organizuje osobní konzultace s ekonomickými diplo
 maty. Ty proběhnou ve dnech 23. – 25. června 2021. Nabízíme vám mo
 žnost jednání s ekonomickými diplomaty z některých zemí na osobníc
 h schůzkách. Jedná se o ty země\, kde epidemiologická situace dovolí
  přicestovat do ČR nebo naopak vrátit se zpět z ČR za přijatelných 
 podmínek.\n
URL:https://www.spcr.cz/konzultace-s-ekonomickymi-diplomaty-prezencne
DTSTART:20210623T140000
DTEND:20210625T173000
LOCATION:
END:VEVENT
END:VCALENDAR
