BEGIN:VCALENDAR
PRODID:-//eluceo/ical//2.0/EN
VERSION:2.0
CALSCALE:GREGORIAN
BEGIN:VEVENT
UID:cbbbb158dcfe5166d31ce01712be8708
DTSTAMP:20260423T173453Z
SUMMARY:Webinář k praktickým aspektům k obchodování s UK
DESCRIPTION:Název akce: Webinář k praktickým aspektům k obchodování 
 s UK\nURL: https://www.spcr.cz/webinar-k-praktickym-aspektum-k-obchodovani
 -s-uk\nPopis: \n\nMinisterstvo průmyslu a obchodu ČR ve spolupráci s br
 itským velvyslanectvím v Praze\, Generálním ředitelstvím cel a Svaze
 m průmyslu a obchodu ČR Vás srdečně zvou na Webinář k praktickým a
 spektům obchodování s UK\, který proběhne dne 28. června 2021 od 10:
 00 online přes MS Teams.  Účastníci webináře budou mít možnost zá
 stupcům české i britské státní správy pokládat otázky a dozvědě
 t se vše praktické o obchodování s UK\, včetně postupů a náležito
 stí\, které se od 1. ledna 2021 uplatňují.  Účast na webináři je j
 ako vždy bezplatná. Předpokládaná délka je 120 minut. Webinář bude
  probíhat v anglickém jazyce.  Registrace jsou možné přes registračn
 í formulář do 25. června 2021 do 9:00.  Po vyplnění registračního 
 formuláře zašleme nejpozději den před konáním webináře odkaz k p
 řipojení na Vaši e-mailovou adresu.  Více informací na webu MPO.  Dot
 azy na řečníky můžete zasílat předem na brexit@mpo.cz.  Těšíme s
 e na Vaši účast!\n
URL:https://www.spcr.cz/webinar-k-praktickym-aspektum-k-obchodovani-s-uk
DTSTART:20210628T100000
DTEND:20210628T120000
LOCATION:
END:VEVENT
END:VCALENDAR
