BEGIN:VCALENDAR
PRODID:-//eluceo/ical//2.0/EN
VERSION:2.0
CALSCALE:GREGORIAN
BEGIN:VEVENT
UID:7389893f29c6ccd14803bbfe2f97b58d
DTSTAMP:20260423T145939Z
SUMMARY:Barometr českého průmyslu 2021
DESCRIPTION:Název akce: Barometr českého průmyslu 2021\nURL: https://ww
 w.spcr.cz/barometr-ceskeho-prumyslu-2021\nPopis: \n\nNárodní centrum Pr
 ůmyslu 4.0 Vás zve ke sledování druhého vydání unikátního nezávi
 slého diskusního online pořadu osobností českého průmyslu\, jehož 
 se zúčastní následující diskutující:\n\nAndrej Babiš\, premiér 
 ČR\nKarel Havlíček\, místopředseda vlády ČR pro hospodářství\nAl
 ena Schillerová\, místopředsedkyně vlády ČR a ministryně financí 
 ČR\nStanislav Kouba\, náměstek ministryně financí ČR\nJakub Kulháne
 k\, ministr zahraničních věcí ČR\nRadek Špicar\, viceprezident Svazu
  průmyslu a dopravy ČR\nVladimír Dlouhý\, prezident Hospodářské kom
 ory ČR\nRadek Jakubský\, viceprezident Hospodářské komory ČR\nMartin
  Jahn\, člen představenstva pro prodej a marketing\, Škoda Auto\, a.s.\
 nVladimír Mařík\, vědecký ředitel Českého institutu informatiky\, 
 robotiky a kybernetiky\, ČVUT\n\nProgram:\n13.00 - 13.05 - Úvod\, uvít
 ání hostů13.05 - 13.15 - Prezentace výsledků nejnovějšího průzkum
 u mezi 327 výrobními firmami 13.15 - 14.45 - Řízená diskuse14.45 - 15
 .00 - Diskuze z publika\nKde sledovat přenos?\n\nPřenos můžete sledova
 t na youtube kanále.\n
URL:https://www.spcr.cz/barometr-ceskeho-prumyslu-2021
DTSTART:20210610T130000
DTEND:20210610T150000
LOCATION:
END:VEVENT
END:VCALENDAR
