BEGIN:VCALENDAR
PRODID:-//eluceo/ical//2.0/EN
VERSION:2.0
CALSCALE:GREGORIAN
BEGIN:VEVENT
UID:b089cde391f5783012123251af290f05
DTSTAMP:20260423T163117Z
SUMMARY:DSA - How to make it future-proof?
DESCRIPTION:Název akce: DSA - How to make it future-proof?\nURL: https://w
 ww.spcr.cz/dsa-how-make-it-future-proof\nPopis: \n\nOn behalf of the Confe
 deration of Industry of the Czech Republic and Vice-President of the Europ
 ean Parliament Dita Charanzová\, we invite you to an online event dedicat
 ed to the Digital Services Act. Renowned guests will be discussing the leg
 islation's potential impact on the European e-Commerce companies. We will 
 cover several key aspects of the proposal and their concrete impact on onl
 ine platforms - such as the categorization of online intermediaries\, mean
 ingful transparency\, know your business customer and the out of court dis
 pute settlements.\nPlease register here.\n\n \n
URL:https://www.spcr.cz/dsa-how-make-it-future-proof
DTSTART:20210615T100000
DTEND:20210615T113000
LOCATION:
END:VEVENT
END:VCALENDAR
