BEGIN:VCALENDAR
PRODID:-//eluceo/ical//2.0/EN
VERSION:2.0
CALSCALE:GREGORIAN
BEGIN:VEVENT
UID:7db2472242ecd8616b1498e1667aa1d3
DTSTAMP:20260423T174042Z
SUMMARY:Online: Obchodní příležitosti v leteckém průmyslu v Asii (SIN
 GAPUR a ČÍNA)
DESCRIPTION:Název akce: Online: Obchodní příležitosti v leteckém prů
 myslu v Asii (SINGAPUR a ČÍNA)\nURL: https://www.spcr.cz/online-obchodni
 -prilezitosti-v-leteckem-prumyslu-v-asii-singapur-cina\nPopis: \n\nOnline 
 konference: Obchodní příležitosti v leteckém průmyslu v Asii (SINGAP
 UR a ČÍNA)\nSérie online konferencí na téma obchodních příležitos
 tí v různých spektrech leteckého (a kosmického průmyslu) v Asii\, se
  zaměřením na Singapur\, Čínu\, Vietnam\, Indonésii\, Thajsko a Indi
 i.Konference organizuje Česká agentura na podporu obchodu/CzechTrade ve 
 spolupráci s Leteckou amatérskou asociací ČR a Asociací leteckých a 
 kosmických výrobců ČR.Program konference:Úvodní slovo\n\nJan Fridric
 h\, vicepresident pro zahraniční záležitosti\, průmysl a vnitřní au
 dit Letecké amatérské asociace ČR a člen představenstva Asociace let
 eckých a kosmických výrobců ČR\n\nSingapur\n\nLadislav Graner\, vedou
 cí regionálního centra jihovýchodní Asie a Indie agentury CzechTrade\
 , vedoucí zahraniční kanceláře CzechTrade v Singapuru\n\nobchodní p
 říležitosti v leteckém a kosmickém průmyslu v Singapuru\n\n\n\n\nSia
  Kheng Yok\, Chief Executive\, Association of Aerospace Industries (Singap
 ore)\n\npříležitosti v oblastech Unmanned Aircraft Systems a Advanced /
  Urban Air Mobility v Singapuru\n\n\n\nČína\n\nMichal Dúbrava\, vedouc
 í zahraniční kanceláře CzechTrade v Chengdu (Čína)\n\nobchodní př
 íležitosti v leteckém průmyslu v Číně\n\n\nPrezentace zahraničníh
 o hosta\n\nDiskuze\, Otázky a odpovědiPozn.: Prezentace zahraničních h
 ostů bude v anglickém jazyce\, bez tlumočení.Pro koho je akce určena:
 Pro české firmy ze širokého spektra leteckého (a kosmického) průmys
 lu\; od kompletní výroby letadel\, jejich částí (motory\, vrtule\, av
 ionika\, elektronika\, hydraulika\, záchranné systémy)\, přes design\,
  testování\, společný vývoj a výzkum\, výcvik pilotů\, metodologii
 \, řešení pro letiště\, až po certifikaci a další.\nDůležité:\n
 \nK účasti na online konferenci potřebujete pouze PC\, notebook či tel
 efon s internetovým připojením.\nDen před konáním akce Vám e-mailem
  zašleme prolink na danou akci.\nAkce pokračuje v následujících term
 ínech:\n\n17.6.21 teritoria: Vietnam\, Indonésie\n22.6.21 teritoria: Tha
 jsko\, Indie\n\n\n\n\nOnline konference jsou součástí nově vznikajíc
 ího projektu „Czech Aviation A-Z Solution for Asia x CzechTrade“ k
  podpoře propagace širokého spektra českého leteckého (a kosmickéh
 o) průmyslu. Výstupy zahraničních kanceláří agentury CzechTrade v 
 Asii na otázky/ zadání Letecké amatérské asociace ČR a Asociace let
 eckých a kosmických výrobců ČR ke stažení zde od 10. června 2021.
 \n\nÚčast na akci je bezplatná. Těšíme se na setkání s Vámi.\n
URL:https://www.spcr.cz/online-obchodni-prilezitosti-v-leteckem-prumyslu-v-
 asii-singapur-cina
DTSTART:20210615T090000
DTEND:20210615T110000
LOCATION:
END:VEVENT
END:VCALENDAR
