BEGIN:VCALENDAR
PRODID:-//eluceo/ical//2.0/EN
VERSION:2.0
CALSCALE:GREGORIAN
BEGIN:VEVENT
UID:816c3ffbcc9287c21837b6de12753b45
DTSTAMP:20260423T145024Z
SUMMARY:Online: Equal Opportunities  in AI Age
DESCRIPTION:Název akce: Online: Equal Opportunities  in AI Age\nURL: https
 ://www.spcr.cz/online-equal-opportunities-ai-age\nPopis: \n\nThe Confedera
 tion of Industry of the Czech Republic in cooperation with the Office of t
 he Government of the Czech Republic would like to cordially invite you to 
 an online event to debate above mentioned topics with high lever speakers 
 from the EU\, employers and governments from Central and Eastern Europe.\n
 The event will take place on June 23rd from 10:00 CET. The event is suppor
 ted by IBM.You can register HERE.\n\nAGENDA\n10:00 - 10:25 Welcome and Key
 note speeches\n\nMilena Jabůrková\, IBM\, Vice-President Digital Economy
  and Education\, Confederation of Industry of the Czech Republic\nMilena H
 rdinková\, State secretary for EU affairs\, Office of the Government of t
 he Czech Republic\nMonika Ladmanová\, Adviser and Cabinet Member to the V
 ice-President of the European Commission on Values and Transparency\, Euro
 pean Commission\n\n10:25 - 11:20 Discussion Panel - How to use AI tools to
  set up equal opportunities in the workplace?\nModerator: Veronika Kramař
 íková\, Vice-Rector for Development and Strategy of CTU\n\nMonika Ladman
 ová\, Adviser and Cabinet Member to the Vice-President of the European Co
 mmission on Values and Transparency\, European Commission\nPavlína Kalous
 ová\, Director of Corporate Relations and Communications\, Plzeňský Pra
 zdroj\nCarl Clarke\, HR Director\, Vodafone Czech Republic\nKamila Sotomsk
 a\, Deputy Director in the Department of Law and Legislation of the Polish
  Union of Entrepreneurs and Employers\nElvyra Šitel\, Global Business Ser
 vices AI HR system expert\, IBM\n\n11:20 - 11:30 Closing remarksMilena Jab
 ůrková\, IBM\, Vice-President Digital Economy and Education\, Confederat
 ion of Industry of the Czech Republic\n
URL:https://www.spcr.cz/online-equal-opportunities-ai-age
DTSTART:20210623T100000
DTEND:20210623T113000
LOCATION:
END:VEVENT
END:VCALENDAR
